BEGIN:VCALENDAR
VERSION:2.0
PRODID:-//Tukios.com/
BEGIN:VEVENT
UID:f23a19b5-bc3e-47f0-918e-414a01517a78@www.kirkleyruddickfuneralhome.com
DTSTAMP:20260422T203050Z
DTSTART:20260424T150000Z
DTEND:20260424T160000Z
SUMMARY:Funeral Service
DESCRIPTION:
URL:https://www.kirkleyruddickfuneralhome.com/obituaries/robert-lange-jr
LOCATION: 421 Crain Hwy  Glen Burnie MD 21061
GEO:39.1583061;-76.6283613
END:VEVENT
END:VCALENDAR