BEGIN:VCALENDAR
VERSION:2.0
PRODID:-//Tukios.com/
BEGIN:VEVENT
UID:1bc839e6-97a0-4fa7-9be0-f0cf956eacaf@www.kirkleyruddickfuneralhome.com
DTSTAMP:20260422T203157Z
DTSTART:20260424T160000Z
DTEND:20260424T161500Z
SUMMARY:Graveside Service
DESCRIPTION:
URL:https://www.kirkleyruddickfuneralhome.com/obituaries/robert-lange-jr
LOCATION: 7231 Ritchie Hwy  Glen Burnie MD 21061
GEO:39.1723877;-76.6179398
END:VEVENT
END:VCALENDAR