BEGIN:VCALENDAR
VERSION:2.0
PRODID:-//Tukios.com/
BEGIN:VEVENT
UID:600a1b74-16da-441a-ad96-7afada964332@www.kirkleyruddickfuneralhome.com
DTSTAMP:20260422T203411Z
DTSTART:20260423T180000Z
DTEND:20260423T200000Z
SUMMARY:Visitation
DESCRIPTION:
URL:https://www.kirkleyruddickfuneralhome.com/obituaries/robert-lange-jr
LOCATION: 421 Crain Hwy  Glen Burnie MD 21061
GEO:39.1583061;-76.6283613
END:VEVENT
END:VCALENDAR