BEGIN:VCALENDAR
VERSION:2.0
PRODID:-//Tukios.com/
BEGIN:VEVENT
UID:45d2b8a9-aadf-43b2-84d3-9d2df33303d8@www.kirkleyruddickfuneralhome.com
DTSTAMP:20260422T203050Z
DTSTART:20260423T220000Z
DTEND:20260424T000000Z
SUMMARY:Visitation
DESCRIPTION:
URL:https://www.kirkleyruddickfuneralhome.com/obituaries/robert-lange-jr
LOCATION: 421 Crain Hwy  Glen Burnie MD 21061
GEO:39.1583061;-76.6283613
END:VEVENT
END:VCALENDAR