BEGIN:VCALENDAR
VERSION:2.0
PRODID:-//Tukios.com/
BEGIN:VEVENT
UID:cba37968-7fed-41fc-8a9b-5c53cc773ecd@www.kirkleyruddickfuneralhome.com
DTSTAMP:20260420T221945Z
DTSTART:20260423T140000Z
DTEND:20260423T150000Z
SUMMARY:Funeral Service
DESCRIPTION:
URL:https://www.kirkleyruddickfuneralhome.com/obituaries/ruby-l-ward
LOCATION: 5 2nd Ave SE  Glen Burnie MD 21061
GEO:39.1613891;-76.6263189
END:VEVENT
END:VCALENDAR