BEGIN:VCALENDAR
VERSION:2.0
PRODID:-//Tukios.com/
BEGIN:VEVENT
UID:4bba3177-060e-458a-80a9-dc5c1d49df91@www.kirkleyruddickfuneralhome.com
DTSTAMP:20260420T221642Z
DTSTART:20260423T153000Z
DTEND:20260423T154500Z
SUMMARY:Burial
DESCRIPTION:
URL:https://www.kirkleyruddickfuneralhome.com/obituaries/ruby-l-ward
LOCATION: 7231 Ritchie Hwy  Glen Burnie MD 21061
GEO:39.1723877;-76.6179398
END:VEVENT
END:VCALENDAR